BEGIN:VCALENDAR
VERSION:2.0
PRODID:-//Componeers GmbH - ECPv6.15.11//NONSGML v1.0//EN
CALSCALE:GREGORIAN
METHOD:PUBLISH
X-WR-CALNAME:Componeers GmbH
X-ORIGINAL-URL:https://www.componeers.net/en/
X-WR-CALDESC:Events for Componeers GmbH
REFRESH-INTERVAL;VALUE=DURATION:PT1H
X-Robots-Tag:noindex
X-PUBLISHED-TTL:PT1H
BEGIN:VTIMEZONE
TZID:Europe/Berlin
BEGIN:DAYLIGHT
TZOFFSETFROM:+0100
TZOFFSETTO:+0200
TZNAME:CEST
DTSTART:20250330T010000
END:DAYLIGHT
BEGIN:STANDARD
TZOFFSETFROM:+0200
TZOFFSETTO:+0100
TZNAME:CET
DTSTART:20251026T010000
END:STANDARD
BEGIN:DAYLIGHT
TZOFFSETFROM:+0100
TZOFFSETTO:+0200
TZNAME:CEST
DTSTART:20260329T010000
END:DAYLIGHT
BEGIN:STANDARD
TZOFFSETFROM:+0200
TZOFFSETTO:+0100
TZNAME:CET
DTSTART:20261025T010000
END:STANDARD
BEGIN:DAYLIGHT
TZOFFSETFROM:+0100
TZOFFSETTO:+0200
TZNAME:CEST
DTSTART:20270328T010000
END:DAYLIGHT
BEGIN:STANDARD
TZOFFSETFROM:+0200
TZOFFSETTO:+0100
TZNAME:CET
DTSTART:20271031T010000
END:STANDARD
END:VTIMEZONE
BEGIN:VEVENT
DTSTART;VALUE=DATE:20260507
DTEND;VALUE=DATE:20260508
DTSTAMP:20260425T132011
CREATED:20250915T063733Z
LAST-MODIFIED:20251020T093833Z
UID:7895-1778112000-1778198399@www.componeers.net
SUMMARY:Night of Electronics
DESCRIPTION:Night of Electronics 2026 – Where innovation meets elegance\nAn evening that sets standards. An industry that shapes the future. In 2026\, it will once again be time for Black Tie\, Bright Minds. The Night of Electronics is returning – bigger\, more glamorous and even more exclusive. At the tried-and-tested location in the heart of Munich\, you can look forward to a gala evening that celebrates the innovative power of the electronics industry and sets the stage for the thought leaders of tomorrow.     \nDress code: black tie\, cocktail | formal\, elegant \nExperience: \n\nHigh-profile keynote speeches & award ceremonies\nNetworking with the industry’s top decision-makers\nGala dinner in a stylish setting\nLive entertainment & exclusive surprises\n\nSave the date: 7 May 2026 – The Night of Electronics enters its next round \nLearn more
URL:https://www.componeers.net/en/event/night-of-electronics-3/
LOCATION:Jagd- und Fischereimuseum\, Neuhauser Straße 2\, München\, 80331
CATEGORIES:Automation,Congresses,Electronics,ITK
ATTACH;FMTTYPE=image/png:https://www.componeers.net/wp-content/uploads/2025/09/event-teaser_NoE.png
END:VEVENT
BEGIN:VEVENT
DTSTART;VALUE=DATE:20260616
DTEND;VALUE=DATE:20260617
DTSTAMP:20260425T132011
CREATED:20260219T092109Z
LAST-MODIFIED:20260219T093212Z
UID:8117-1781568000-1781654399@www.componeers.net
SUMMARY:Tech Forum Frankfurt
DESCRIPTION:Tech Forum Frankfurt—the industry meeting place for infrastructure\, cabling\, and data centers—will set new standards again in 2026! Get your expert update with first-hand knowledge\, controversial topics\, and visionary ideas. Meet thought leaders\, industry professionals\, and users on equal footing. Look forward to inspiring presentations\, lively debates\, and a trade exhibition featuring the latest products and technologies. Take advantage of the networking platform\, exchange ideas\, and shape the future of infrastructure and data centers with us!     \n  \nLearn more
URL:https://www.componeers.net/en/event/tech-forum-frankfurt-2/
LOCATION:Crowne Plaza Frankfurt Congress Hotel\, Lyoner Str. 44 -48\, Frankfurt am Main\, 60528\, Germany
CATEGORIES:Congresses,ITK
ATTACH;FMTTYPE=image/png:https://www.componeers.net/wp-content/uploads/2024/10/event-TF-teaser-3.png
ORGANIZER;CN="Componeers GmbH":MAILTO:events@componeers.net
END:VEVENT
BEGIN:VEVENT
DTSTART;VALUE=DATE:20260707
DTEND;VALUE=DATE:20260709
DTSTAMP:20260425T132011
CREATED:20251027T130501Z
LAST-MODIFIED:20251027T130847Z
UID:7940-1783382400-1783555199@www.componeers.net
SUMMARY:Cyber Resilience Act Summit
DESCRIPTION:With the Cyber Resilience Act (CRA)\, the EU has established a minimum level of cybersecurity for all networked products. The CRA covers all products sold in the EU that contain “digital elements.” This includes the entire range of embedded systems – from consumer electronics and household appliances to complex high-end industrial systems – if they can be connected to a network or even just to another device.   \nThe CRA has been in force since the end of 2024 and must be implemented in several stages by the end of 2027 at the latest. Developers of embedded systems\, but also project managers and product managers\, are therefore asking themselves the question: How do I go about ensuring that my products meet the CRA requirements?  \n  \nLearn more
URL:https://www.componeers.net/en/event/cyber-resilience-act-summit-2/
LOCATION:Science Congress Center Munich\, Walther-Von-Dyck Str. 10\, Garching\, 85748\, Deutschland
CATEGORIES:Automation,Congresses,Electronics,Graduate Program,ITK
ATTACH;FMTTYPE=image/png:https://www.componeers.net/wp-content/uploads/2025/05/event-teaser_CRS.png
ORGANIZER;CN="Componeers GmbH":MAILTO:events@componeers.net
END:VEVENT
BEGIN:VEVENT
DTSTART;VALUE=DATE:20260922
DTEND;VALUE=DATE:20260923
DTSTAMP:20260425T132011
CREATED:20251120T135037Z
LAST-MODIFIED:20251201T104016Z
UID:7971-1790035200-1790121599@www.componeers.net
SUMMARY:Health Electronics Summit
DESCRIPTION:Safety & Cybersecurity for Digital Health\nThe 2nd Health Electronics Summit 2026 highlights how smart electronics\, wearables\, and artificial intelligence are increasingly changing prevention\, diagnostics\, and medical care. Innovations such as software-defined medical devices\, smart home solutions\, and AI-supported systems enable automated workflows\, personalized treatment concepts\, and create new digital business models for the life sciences industry. \nThe 2nd Health Electronics Summit in Stuttgart brings together the following target group to design secure\, trustworthy medical electronics – from the chip level to the medical edge to the cloud: electronics suppliers and developers\, medical technology engineers\, safety and security experts in health\, cybersecurity researchers\, and visionaries in healthcare. \n  \nLearn more
URL:https://www.componeers.net/en/event/health-electronics-summit-2/
LOCATION:Mövenpick Hotel Stuttgart Flughafen\, Flughafenstraße 50\, Stuttgart\, 70629\, Germany
CATEGORIES:Congresses,Electronics
ATTACH;FMTTYPE=image/png:https://www.componeers.net/wp-content/uploads/2025/05/event-teaser_Health-Electronics-Summit.png
ORGANIZER;CN="Componeers GmbH":MAILTO:events@componeers.net
END:VEVENT
BEGIN:VEVENT
DTSTART;VALUE=DATE:20260922
DTEND;VALUE=DATE:20260923
DTSTAMP:20260425T132011
CREATED:20260123T094908Z
LAST-MODIFIED:20260123T095220Z
UID:8094-1790035200-1790121599@www.componeers.net
SUMMARY:Elektronik Solution Day
DESCRIPTION:Embedded development in the age of AI\nElektronik Solution Day is a specialist conference that offers developers and technical decision-makers concentrated expertise on modern electronics and AI solutions for industrial and embedded applications. The focus is on practical specialist presentations\, live demonstrations and specific use cases in which experts show how AI algorithms can be efficiently integrated into existing systems\, optimised and operated securely in order to significantly increase quality\, efficiency and maintainability. Participants will gain a compact overview of current technologies\, tools and best practices – from edge AI\, sensor technology and hardware selection to software frameworks and security aspects. Accompanying exhibitors will present innovative hardware and software solutions that support the entire development cycle\, from the initial idea to prototyping and series production. The event also offers plenty of opportunity for networking\, exchanging ideas with specialists and forging new partnerships in an expert environment. \nLearn more
URL:https://www.componeers.net/en/event/elektronik-solution-day/
LOCATION:Mövenpick Hotel Stuttgart Flughafen\, Flughafenstraße 50\, Stuttgart\, 70629\, Germany
CATEGORIES:Congresses,Electronics
ATTACH;FMTTYPE=image/png:https://www.componeers.net/wp-content/uploads/2026/01/event-teaser_Solution-Day.png
END:VEVENT
BEGIN:VEVENT
DTSTART;VALUE=DATE:20261013
DTEND;VALUE=DATE:20261014
DTSTAMP:20260425T132012
CREATED:20260416T083359Z
LAST-MODIFIED:20260416T083511Z
UID:8272-1791849600-1791935999@www.componeers.net
SUMMARY:Forum Single Pair Ethernet
DESCRIPTION:The Single Pair Ethernet Forum provides a cross-application platform for gaining a comprehensive understanding of the technology and its implementation—from components to systems. \n  \nLearn more
URL:https://www.componeers.net/en/event/forum-single-pair-ethernet-2/
LOCATION:HYPERION Hotel München\, Truderinger Straße 13\, München\, 81677
CATEGORIES:Congresses,ITK
ATTACH;FMTTYPE=image/jpeg:https://www.componeers.net/wp-content/uploads/2024/01/event-teaser_Forum-Single-Pair-Ethernet.jpg
ORGANIZER;CN="Componeers GmbH":MAILTO:events@componeers.net
END:VEVENT
BEGIN:VEVENT
DTSTART;VALUE=DATE:20261105
DTEND;VALUE=DATE:20261106
DTSTAMP:20260425T132012
CREATED:20260219T092600Z
LAST-MODIFIED:20260219T092652Z
UID:8122-1793836800-1793923199@www.componeers.net
SUMMARY:Tech Forum Vienna
DESCRIPTION:Tech Forum Vienna—the industry meeting place for infrastructure\, cabling\, and data centers—will set new standards again in 2026! Get your expert update with first-hand knowledge\, controversial topics\, and visionary ideas. Meet thought leaders\, industry professionals\, and users on equal footing. Look forward to inspiring presentations\, lively debates\, and a trade exhibition featuring the latest products and technologies. Take advantage of the networking platform\, exchange ideas\, and shape the future of infrastructure and data centers with us!     \n  \nLearn more
URL:https://www.componeers.net/en/event/tech-forum-vienna-3/
LOCATION:Hotel Meliá Vienna\, Donau-City-Strasse 7\, Vienna\, 1220\, Österreich
CATEGORIES:Congresses,ITK
ATTACH;FMTTYPE=image/png:https://www.componeers.net/wp-content/uploads/2024/10/event-TF-teaser-3.png
ORGANIZER;CN="Componeers GmbH":MAILTO:events@componeers.net
END:VEVENT
END:VCALENDAR