BEGIN:VCALENDAR
VERSION:2.0
PRODID:-//Componeers GmbH - ECPv6.15.11//NONSGML v1.0//EN
CALSCALE:GREGORIAN
METHOD:PUBLISH
X-ORIGINAL-URL:https://www.componeers.net
X-WR-CALDESC:Veranstaltungen für Componeers GmbH
REFRESH-INTERVAL;VALUE=DURATION:PT1H
X-Robots-Tag:noindex
X-PUBLISHED-TTL:PT1H
BEGIN:VTIMEZONE
TZID:Europe/Berlin
BEGIN:DAYLIGHT
TZOFFSETFROM:+0100
TZOFFSETTO:+0200
TZNAME:CEST
DTSTART:20230326T010000
END:DAYLIGHT
BEGIN:STANDARD
TZOFFSETFROM:+0200
TZOFFSETTO:+0100
TZNAME:CET
DTSTART:20231029T010000
END:STANDARD
BEGIN:DAYLIGHT
TZOFFSETFROM:+0100
TZOFFSETTO:+0200
TZNAME:CEST
DTSTART:20240331T010000
END:DAYLIGHT
BEGIN:STANDARD
TZOFFSETFROM:+0200
TZOFFSETTO:+0100
TZNAME:CET
DTSTART:20241027T010000
END:STANDARD
BEGIN:DAYLIGHT
TZOFFSETFROM:+0100
TZOFFSETTO:+0200
TZNAME:CEST
DTSTART:20250330T010000
END:DAYLIGHT
BEGIN:STANDARD
TZOFFSETFROM:+0200
TZOFFSETTO:+0100
TZNAME:CET
DTSTART:20251026T010000
END:STANDARD
END:VTIMEZONE
BEGIN:VEVENT
DTSTART;VALUE=DATE:20241023
DTEND;VALUE=DATE:20241024
DTSTAMP:20260419T192147
CREATED:20240408T151437Z
LAST-MODIFIED:20240408T151533Z
UID:5681-1729641600-1729727999@www.componeers.net
SUMMARY:Markt&Technik DC Konferenz
DESCRIPTION:Gleichstromnetze für die Industrie \n  \nGleichstromnetze bieten viele Vorteile gegenüber Wechsel- und Drehstromnetzen\, vor allem in der Produktion\, aber auch in Gebäuden. Diese Vorteile – etwa 50 Prozent niedrigere Energiekosten in der Energieverteilung in der Fabrik und 50 Prozent weniger Kupfer – können jetzt\, nicht zuletzt wegen der Fortschritte in der Leistungselektronik\, zum Tragen kommen. \nDie Technik ist zwar weitgehend vorhanden\, doch das Thema ist für alle Beteiligten neu. Deshalb stellen sich denjenigen\, die Gleichstromnetze in ihren Unternehmen einführen wollen\, immer noch viele Fragen\, von der grundlegenden Technik über Fragen bezüglich Planung und Installation bis hin zu Fragen\, die Standardisierungen und Regulierungen betreffen. \nAuf der Markt&Technik DC Konferenz\, die mit Unterstützung der Open Direct Current Alliance (ODCA) am 23. Oktober 2024 im Holliday Inn München durchgeführt wird\, beantworten diese Fragen Referenten aus Praxis in ihren Vorträgen. In der begleitenden Fachausstellung präsentieren Hersteller\, welche Komponenten es bereits gibt\, um Gleichstromnetze aufzubauen. \nAuf der Konferenz zum Thema »Gleichstromnetze für die Industrie« erfahren Entscheider und Praktiker\, die Gleichstromnetze planen\, alles\, was sie wissen müssen\, um sie in ihren Produktionsumgebungen realisieren zu können. \n  \nMehr erfahren
URL:https://www.componeers.net/event/markttechnik-dc-konferenz/
LOCATION:Holiday Inn City Centre München\, Hochstrasse 3\, München\, 81669
CATEGORIES:Elektronik
ATTACH;FMTTYPE=image/png:https://www.componeers.net/wp-content/uploads/2024/04/event-MT-DC-Konferenz.jpg
ORGANIZER;CN="Componeers GmbH":MAILTO:events@componeers.net
END:VEVENT
END:VCALENDAR