BEGIN:VCALENDAR
VERSION:2.0
PRODID:-//Componeers GmbH - ECPv6.15.11//NONSGML v1.0//EN
CALSCALE:GREGORIAN
METHOD:PUBLISH
X-WR-CALNAME:Componeers GmbH
X-ORIGINAL-URL:https://www.componeers.net
X-WR-CALDESC:Veranstaltungen für Componeers GmbH
REFRESH-INTERVAL;VALUE=DURATION:PT1H
X-Robots-Tag:noindex
X-PUBLISHED-TTL:PT1H
BEGIN:VTIMEZONE
TZID:Europe/Berlin
BEGIN:DAYLIGHT
TZOFFSETFROM:+0100
TZOFFSETTO:+0200
TZNAME:CEST
DTSTART:20230326T010000
END:DAYLIGHT
BEGIN:STANDARD
TZOFFSETFROM:+0200
TZOFFSETTO:+0100
TZNAME:CET
DTSTART:20231029T010000
END:STANDARD
BEGIN:DAYLIGHT
TZOFFSETFROM:+0100
TZOFFSETTO:+0200
TZNAME:CEST
DTSTART:20240331T010000
END:DAYLIGHT
BEGIN:STANDARD
TZOFFSETFROM:+0200
TZOFFSETTO:+0100
TZNAME:CET
DTSTART:20241027T010000
END:STANDARD
BEGIN:DAYLIGHT
TZOFFSETFROM:+0100
TZOFFSETTO:+0200
TZNAME:CEST
DTSTART:20250330T010000
END:DAYLIGHT
BEGIN:STANDARD
TZOFFSETFROM:+0200
TZOFFSETTO:+0100
TZNAME:CET
DTSTART:20251026T010000
END:STANDARD
END:VTIMEZONE
BEGIN:VEVENT
DTSTART;VALUE=DATE:20240702
DTEND;VALUE=DATE:20240704
DTSTAMP:20260422T230956
CREATED:20240212T130255Z
LAST-MODIFIED:20240402T090952Z
UID:5386-1719878400-1720051199@www.componeers.net
SUMMARY:Elektronik Solution Days - KI für Industrie- und Embedded-Anwendungen
DESCRIPTION:Durch bahnbrechende Entwicklungen wie das Large Language Model ‚ChatGPT‘ ist künstliche Intelligenz (KI) derzeit in aller Munde. KI ist aber längst nicht immer spektakulär und aufsehenerregend\, sondern beispielsweise als Embedded-KI und in der Automatisierung zuallererst ein Tool\, das im Hintergrund seine Arbeit verrichtet: \nDoch was können KI-Algorithmen in verschiedenen industriellen Anwendungen leisten\, und wie lassen sie sich dort implementieren\, aktualisieren und gegebenenfalls skalieren? Wie sollten Entwickler dabei vorgehen? Interessant ist außerdem\, welche Anwendungen sich in der industriellen Automatisierung schon bewährt haben – und welche erfolgreichen Use Cases es gibt. \nDie meisten Industrieunternehmen stehen vor der Entscheidung\, erstmals KI zu nutzen oder die Nutzung weiter auszubauen – und sehen sich damit diesen und ähnlichen Fragen gegenüber. Genau solche Fragen sollen im Zuge der ersten »Elektronik AI Solution Days« der WEKA Fachmedien beantwortet werden. Führende KI-Expertinnen und -Experten vermitteln das nötige Wissen\, um komplexe KI-Anwendungen zu verstehen und zu entwickeln. Zudem geben sie Hilfestellungen an die Hand und berichten über konkrete Anwendungsfälle in der Industrie. So kann Entwicklerwissen erworben und Projektkompetenz für das nächste KI-Projekt aufgebaut werden. \n  \nMehr erfahren
URL:https://www.componeers.net/event/ki-fuer-industrie-und-embedded-anwendungen/
LOCATION:H4 Hotel Messe München\, Konrad-Zuse-Platz 14\, München\, 81829\, Deutschland
CATEGORIES:Elektronik
ATTACH;FMTTYPE=image/jpeg:https://www.componeers.net/wp-content/uploads/2024/02/event-EK-AI-Solution-Days.jpg
ORGANIZER;CN="Componeers GmbH":MAILTO:events@componeers.net
END:VEVENT
BEGIN:VEVENT
DTSTART;VALUE=DATE:20240710
DTEND;VALUE=DATE:20240711
DTSTAMP:20260422T230956
CREATED:20231130T132402Z
LAST-MODIFIED:20240201T122454Z
UID:2711-1720569600-1720655999@www.componeers.net
SUMMARY:Tech Forum Frankfurt
DESCRIPTION:Das seit vielen Jahren etablierte und renommierte Tech Forum mit den Hauptschwerpunkten Datacenter und Infrastruktur/Verkabelung bringt Spezialisten und Verantwortliche auf einen aktuellen Wissensstand – unabhängig\, hochinformativ und besonders praxisnah. \nDas Tech Forum Frankfurt richtet ein Hauptaugenmerk auf aktuelle Entwicklungen bei der Rechenzentrums-Infrastruktur. Dazu gehört zum Beispiel neue Technik bei Kühlung/Klimatisierung oder Stromversorgung. Neben den nahezu klassischen Forderungen nach Ressourcenschonung sowie Energieeffizienz nimmt auch die Energiespeicher-Technik einen wichtigen Platz ein. Auch die im Datacenter eingesetzte Highspeed-Verkabelung kommt ausführlich zur Sprache. \nBeim Tech Forum finden Expertinnen und Experten\, Branchen-Insider und Anwender auf Augenhöhe zusammen. Die Veranstaltung bietet praxisbezogene Technik-Vorträge\, spannende Diskussionen und Streitgespräche sowie daran angegliedert eine umfangreiche und informative Fachausstellung mit den neuesten Produkten und Dienstleistungen unserer Partner. Ganz wichtig: Für ein gemeinsames Networking steht ebenfalls ausreichend Zeit in ansprechendendem Ambiente zur Verfügung. \nMehr erfahren
URL:https://www.componeers.net/event/tech-forum-frankfurt/
LOCATION:ACHAT Hotel Offenbach Plaza\, Ernst-Griesheimer-Platz 7\, Offenbach am Main\, 63071\, Deutschland
CATEGORIES:ITK
ATTACH;FMTTYPE=image/jpeg:https://www.componeers.net/wp-content/uploads/2024/01/event-teaser_Techforum.jpg
ORGANIZER;CN="Componeers GmbH":MAILTO:events@componeers.net
END:VEVENT
END:VCALENDAR