BEGIN:VCALENDAR
VERSION:2.0
PRODID:-//Componeers GmbH - ECPv6.15.11//NONSGML v1.0//EN
CALSCALE:GREGORIAN
METHOD:PUBLISH
X-WR-CALNAME:Componeers GmbH
X-ORIGINAL-URL:https://www.componeers.net
X-WR-CALDESC:Veranstaltungen für Componeers GmbH
REFRESH-INTERVAL;VALUE=DURATION:PT1H
X-Robots-Tag:noindex
X-PUBLISHED-TTL:PT1H
BEGIN:VTIMEZONE
TZID:Europe/Berlin
BEGIN:DAYLIGHT
TZOFFSETFROM:+0100
TZOFFSETTO:+0200
TZNAME:CEST
DTSTART:20230326T010000
END:DAYLIGHT
BEGIN:STANDARD
TZOFFSETFROM:+0200
TZOFFSETTO:+0100
TZNAME:CET
DTSTART:20231029T010000
END:STANDARD
BEGIN:DAYLIGHT
TZOFFSETFROM:+0100
TZOFFSETTO:+0200
TZNAME:CEST
DTSTART:20240331T010000
END:DAYLIGHT
BEGIN:STANDARD
TZOFFSETFROM:+0200
TZOFFSETTO:+0100
TZNAME:CET
DTSTART:20241027T010000
END:STANDARD
BEGIN:DAYLIGHT
TZOFFSETFROM:+0100
TZOFFSETTO:+0200
TZNAME:CEST
DTSTART:20250330T010000
END:DAYLIGHT
BEGIN:STANDARD
TZOFFSETFROM:+0200
TZOFFSETTO:+0100
TZNAME:CET
DTSTART:20251026T010000
END:STANDARD
END:VTIMEZONE
BEGIN:VEVENT
DTSTART;VALUE=DATE:20240618
DTEND;VALUE=DATE:20240619
DTSTAMP:20260422T212031
CREATED:20240129T145230Z
LAST-MODIFIED:20240513T075117Z
UID:5248-1718668800-1718755199@www.componeers.net
SUMMARY:connect conference
DESCRIPTION:connect conference – discuss the future of telecommunications industry \nMeet the experts \nThe Who’s Who of the telecommunications industry will meet again in Dresden\, Germany for the most important conference of the year. \nMehr erfahren
URL:https://www.componeers.net/event/connect-conference/
LOCATION:Hilton Hotel Dresden\, An der Frauenkirche 5\, Dresden\, 01067
CATEGORIES:ITK,Kongresse
ORGANIZER;CN="Componeers GmbH":MAILTO:events@componeers.net
END:VEVENT
BEGIN:VEVENT
DTSTART;VALUE=DATE:20240626
DTEND;VALUE=DATE:20240627
DTSTAMP:20260422T212031
CREATED:20240528T144301Z
LAST-MODIFIED:20240528T144301Z
UID:5814-1719360000-1719446399@www.componeers.net
SUMMARY:Kostenfreier Webinar-Thementag
DESCRIPTION:Bereit für NIS-2? Was Unternehmen jetzt tun können \nSeit Inkrafttreten der NIS-2-Richtlinie im Januar 2023 sind die Mitgliedstaaten der EU angehalten\, diese in jeweils nationales Recht umzusetzen. In Deutschland erfolgt dies mit dem NIS2-Umsetzungs- und Cybersicherheitsstärkungsgesetz (NIS2UmsuCG)\, welches schätzungsweise 30.000 Unternehmen betreffen wird. Umsetzungsfrist für die Richtlinie ist der 17. Oktober 2024. Für deutsche Unternehmen gilt somit ab dem 18. Oktober Anwendungspflicht. Die Zeit drängt. Am Webinar-Thementag werden die Neuerungen\, Herausforderungen und Pflichten erläutert und diskutiert\, die für Unternehmen mit der NIS-2-Richtlinie einhergehen. Im Fokus des Thementags stehen: – Was ist die NIS-2-Richtlinie? – Welche Einrichtungen sind betroffen? – Wie ist der Status zur Umsetzung in deutsches Recht und welche Konsequenzen ergeben sich daraus? – Was müssen von NIS-2 betroffene Unternehmen und Organisationen tun? – Welche Sanktionen und Bußgelder können bei Nichteinhaltung drohen? – Wie können Unternehmen NIS-2 umsetzen? \n  \nMehr erfahren
URL:https://www.componeers.net/event/kostenfreier-webinar-thementag-2/
LOCATION:virtuell
CATEGORIES:ITK
END:VEVENT
END:VCALENDAR