BEGIN:VCALENDAR
VERSION:2.0
PRODID:-//Componeers GmbH - ECPv6.15.11//NONSGML v1.0//EN
CALSCALE:GREGORIAN
METHOD:PUBLISH
X-ORIGINAL-URL:https://www.componeers.net
X-WR-CALDESC:Veranstaltungen für Componeers GmbH
REFRESH-INTERVAL;VALUE=DURATION:PT1H
X-Robots-Tag:noindex
X-PUBLISHED-TTL:PT1H
BEGIN:VTIMEZONE
TZID:Europe/Berlin
BEGIN:DAYLIGHT
TZOFFSETFROM:+0100
TZOFFSETTO:+0200
TZNAME:CEST
DTSTART:20230326T010000
END:DAYLIGHT
BEGIN:STANDARD
TZOFFSETFROM:+0200
TZOFFSETTO:+0100
TZNAME:CET
DTSTART:20231029T010000
END:STANDARD
BEGIN:DAYLIGHT
TZOFFSETFROM:+0100
TZOFFSETTO:+0200
TZNAME:CEST
DTSTART:20240331T010000
END:DAYLIGHT
BEGIN:STANDARD
TZOFFSETFROM:+0200
TZOFFSETTO:+0100
TZNAME:CET
DTSTART:20241027T010000
END:STANDARD
BEGIN:DAYLIGHT
TZOFFSETFROM:+0100
TZOFFSETTO:+0200
TZNAME:CEST
DTSTART:20250330T010000
END:DAYLIGHT
BEGIN:STANDARD
TZOFFSETFROM:+0200
TZOFFSETTO:+0100
TZNAME:CET
DTSTART:20251026T010000
END:STANDARD
END:VTIMEZONE
BEGIN:VEVENT
DTSTART;VALUE=DATE:20240305
DTEND;VALUE=DATE:20240308
DTSTAMP:20260422T154945
CREATED:20231130T130016Z
LAST-MODIFIED:20240201T122650Z
UID:2682-1709596800-1709855999@www.componeers.net
SUMMARY:Automotive Ethernet Congress
DESCRIPTION:One of the biggest challenges facing the automotive industry today is the strategic shift away from its traditional focus on hardware solutions toward a new software-centric approach: the Software Defined Vehicle (SDV). The digitization of the automobile requires a radical rethink of both development processes and the entire vehicle’s architecture. At the heart of that architecture is the In-Vehicle Network (IVN) and\, consequently\, it will be directly affected by these changes. \nIn the past single criteria such as data rates\, costs or the engineer’s familiarity with the technology were the main factors driving the selection of a particular network technology\, today new questions need to be asked: Does the selected transmission technology support the transformation of the E/E architecture from hardware-based to software-centric? Does it offer the necessary flexibility and self-learning capability to be able to continuously implement new functions? Automotive Ethernet\, which supports service-oriented architectures\, embodies all these features. In addition\, Ethernet is now increasingly being used in new areas of application\, such as Agriculture vehicles\, Truck and Trailer Mining\, and others. \nThe tenth Automotive Ethernet Congress to be held on March 5 – 7\, 2024 in Munich will look to address these and other issues. Here\, current\, and future technology and product developments will be the focus of the conference program\, exhibition\, and associated workshops. The Congress will offer you the opportunity to share and discuss new ideas around the implementation and use of Ethernet in the vehicle and in your own projects. \n  \nMehr erfahren
URL:https://www.componeers.net/event/automotive-ethernet-congress/
LOCATION:Design Offices Muenchen Macherei\, Weihenstephaner Str. 12\, 81673\, Munich\, Deutschland
CATEGORIES:Elektronik
ATTACH;FMTTYPE=image/png:https://www.componeers.net/wp-content/uploads/2023/11/Automotive-Ethernet-Congress-event-teaser.png
ORGANIZER;CN="Componeers GmbH":MAILTO:events@componeers.net
END:VEVENT
END:VCALENDAR