BEGIN:VCALENDAR
VERSION:2.0
PRODID:-//Componeers GmbH - ECPv6.15.11//NONSGML v1.0//EN
CALSCALE:GREGORIAN
METHOD:PUBLISH
X-WR-CALNAME:Componeers GmbH
X-ORIGINAL-URL:https://www.componeers.net
X-WR-CALDESC:Veranstaltungen für Componeers GmbH
REFRESH-INTERVAL;VALUE=DURATION:PT1H
X-Robots-Tag:noindex
X-PUBLISHED-TTL:PT1H
BEGIN:VTIMEZONE
TZID:Europe/Berlin
BEGIN:DAYLIGHT
TZOFFSETFROM:+0100
TZOFFSETTO:+0200
TZNAME:CEST
DTSTART:20230326T010000
END:DAYLIGHT
BEGIN:STANDARD
TZOFFSETFROM:+0200
TZOFFSETTO:+0100
TZNAME:CET
DTSTART:20231029T010000
END:STANDARD
BEGIN:DAYLIGHT
TZOFFSETFROM:+0100
TZOFFSETTO:+0200
TZNAME:CEST
DTSTART:20240331T010000
END:DAYLIGHT
BEGIN:STANDARD
TZOFFSETFROM:+0200
TZOFFSETTO:+0100
TZNAME:CET
DTSTART:20241027T010000
END:STANDARD
BEGIN:DAYLIGHT
TZOFFSETFROM:+0100
TZOFFSETTO:+0200
TZNAME:CEST
DTSTART:20250330T010000
END:DAYLIGHT
BEGIN:STANDARD
TZOFFSETFROM:+0200
TZOFFSETTO:+0100
TZNAME:CET
DTSTART:20251026T010000
END:STANDARD
END:VTIMEZONE
BEGIN:VEVENT
DTSTART;VALUE=DATE:20240206
DTEND;VALUE=DATE:20240208
DTSTAMP:20260422T135831
CREATED:20231130T123206Z
LAST-MODIFIED:20240201T122739Z
UID:2658-1707177600-1707350399@www.componeers.net
SUMMARY:Tech Forum München
DESCRIPTION:Das seit vielen Jahren etablierte und renommierte Tech Forum mit den Hauptschwerpunkten Infrastruktur/Verkabelung und Datacenter bringt Spezialisten und Verantwortliche auf einen aktuellen Wissensstand – unabhängig\, hochinformativ und besonders praxisnah. Das Tech Forum in München zählt seit fast 20 Jahren zu den festen Terminen im Kalender von Verkabelungsfachleuten. \nNeben dem Hauptfokus Office- und RZ-Verkabelung geht es um die passende Messtechnik sowie um energieeffiziente und ressourcenschonende Datacenter-Infrastruktur. \nBeim Tech Forum finden Expertinnen und Experten\, Branchen-Insider und Anwender auf Augenhöhe zusammen. Das Tech Forum München bietet praxisbezogene Technik-Vorträge\, spannende Diskussionen und Streitgespräche sowie daran angegliedert eine umfangreiche und informative Fachausstellung mit den neuesten Produkten und Dienstleistungen unserer Partner. Ganz wichtig: Für ein gemeinsames Networking in ansprechendem Ambiente steht ebenfalls ausreichend Zeit zur Verfügung. \nMehr erfahren
URL:https://www.componeers.net/event/tech-forum-muenchen/
LOCATION:Design Offices Muenchen Macherei\, Weihenstephaner Str. 12\, 81673\, Munich\, Deutschland
CATEGORIES:Automation,ITK
ATTACH;FMTTYPE=image/jpeg:https://www.componeers.net/wp-content/uploads/2024/01/event-teaser_Techforum.jpg
ORGANIZER;CN="Componeers GmbH":MAILTO:events@componeers.net
END:VEVENT
BEGIN:VEVENT
DTSTART;VALUE=DATE:20240227
DTEND;VALUE=DATE:20240229
DTSTAMP:20260422T135832
CREATED:20231130T124544Z
LAST-MODIFIED:20240814T084851Z
UID:2661-1708992000-1709164799@www.componeers.net
SUMMARY:Battery&Power World
DESCRIPTION:Die Fachkonferenz mit Innovationsthemen der Batterie- und Stromversorgungs-Branche \nAm 27. und 28. Februar 2024 laden wir Sie zur Battery&Power World ein. Die Fachkonferenz für Entwickler\, Entscheider\, Planer\, Einkäufer und Anwender aus den verschiedenen Disziplinen der Batterietechnik\, Stromversorgung und der Leistungselektronik findet im Science Congress Center Munich (SCCM) in Garching statt. \nDie Elektrifizierung\, auf der Basis regenerativ erzeugter elektrischer Energie\, gilt als Schlüssel für Klimaschutz und Nachhaltigkeit. Der Weg zur Klimaneutralität fordert Systeme\, die mit hoher Effizienz betrieben werden können – zum Erzeugen\, Wandeln und Speichern von elektrischer Energie – und die sich umweltfreundlich und effizient herstellen lassen. Für ein optimales System müssen elektrochemische Energiespeicher und Leistungselektronikschaltungen richtig kombiniert werden. Das bedeutet für Elektronikentwickler\, sich mit dem Thema Akku auseinanderzusetzen und für Batteriespezialisten\, sich mit Schaltungen zu Batterie-Management-Systemen\, DC/DC-Wandlern und Wechselrichtern zu beschäftigen. \nAuf der Battery&Power World treffen sich auch in 2024 wieder Experten aus den Bereichen Elektromobilität (elektrische Land-\, See- und Luftfahrzeuge) und erneuerbare Energien/Smart Grid sowie Industrie und Medizintechnik. \n  \nMehr erfahren
URL:https://www.componeers.net/event/batterypower-world/
LOCATION:Science Congress Center Munich\, Walther-von-Dyck Str. 10\, Garching bei München\, 85748\, Deutschland
CATEGORIES:Elektronik
ATTACH;FMTTYPE=image/png:https://www.componeers.net/wp-content/uploads/2023/11/Battery-Power-World-event-teaser.png
ORGANIZER;CN="Componeers GmbH":MAILTO:events@componeers.net
END:VEVENT
END:VCALENDAR